BEGIN:VCALENDAR
VERSION:2.0
PRODID:-//kremlin.ru/Kremlin Calendar//RU
METHOD:PUBLISH
URL:http://kremlin.ru/acts/assignments/items/50899/ical-31.ics
BEGIN:VEVENT
SUMMARY:Пр-2508\, п.1\, 22)
DTSTART;VALUE=DATE:20160215
DTEND;VALUE=DATE:20160216
UID:assignment-2689_31@kremlin.ru
DESCRIPTION:22) совместно с ведущими деловыми о
 бъединениями предпринимателей и с учёто
 м позиции Верховного Суда Российской Фе
 дерации подготовить и представить предл
 ожения по совершенствованию законодате
 льства о добровольном декларировании ак
 тивов и счетов (вкладов) в банках.Срок – 1
 5 февраля 2016 г.Ответственные: Медведев Д.
 А.\, Лебедев В.М.\;
END:VEVENT
END:VCALENDAR
