BEGIN:VCALENDAR
VERSION:2.0
PRODID:-//kremlin.ru/Kremlin Calendar//RU
METHOD:PUBLISH
URL:http://kremlin.ru/acts/assignments/items/50899/ical-30.ics
BEGIN:VEVENT
SUMMARY:Пр-2508\, п.1\, 21)
DTSTART;VALUE=DATE:20160701
DTEND;VALUE=DATE:20160702
UID:assignment-2688_30@kremlin.ru
DESCRIPTION:21) совместно с Общероссийской общ
 ественной организацией «Деловая Россия
 » обеспечить создание агентства по техн
 ологическому развитию.Срок – 1 июля 2016 г.
 Ответственные: Медведев Д.А.\, Репик А.Е.\;
END:VEVENT
END:VCALENDAR
