BEGIN:VCALENDAR
VERSION:2.0
PRODID:-//kremlin.ru/Kremlin Calendar//RU
METHOD:PUBLISH
URL:http://kremlin.ru/acts/assignments/items/50899/ical-29.ics
BEGIN:VEVENT
SUMMARY:Пр-2508\, п.1\, 20)
DTSTART;VALUE=DATE:20160301
DTEND;VALUE=DATE:20160302
UID:assignment-2687_29@kremlin.ru
DESCRIPTION:20) совместно с Центральным банком 
 Российской Федерации в целях дополнител
 ьного стимулирования развития рынка цен
 ных бумаг подготовить и представить пре
 дложения\, направленные на упрощение и с
 окращение сроков процедуры эмиссии долг
 овых ценных бумаг\, а также на создание м
 еханизмов снижения рисков граждан при п
 риобретении ценных бумаг российских ком
 паний на организованном рынке.Срок – 1 м
 арта 2016 г.Ответственные: Медведев Д.А.\, Н
 абиуллина Э.С.\;
END:VEVENT
END:VCALENDAR
