BEGIN:VCALENDAR
VERSION:2.0
PRODID:-//kremlin.ru/Kremlin Calendar//RU
METHOD:PUBLISH
URL:http://kremlin.ru/acts/assignments/items/50899/ical-28.ics
BEGIN:VEVENT
SUMMARY:Пр-2508\, п.1\, 19)
DTSTART;VALUE=DATE:20160331
DTEND;VALUE=DATE:20160401
UID:assignment-2686_28@kremlin.ru
DESCRIPTION:19) совместно с автономной некомме
 рческой организацией «Агентство страте
 гических инициатив по продвижению новых
  проектов» и ведущими деловыми объедине
 ниями предпринимателей:организовать мо
 ниторинг применения в субъектах Российс
 кой Федерации нормативных правовых акто
 в\, изданных в целях реализации «дорожны
 х карт»\, разработанных в рамках национа
 льной предпринимательской инициативы п
 о улучшению инвестиционного климата в Р
 оссийской Федерации\;обеспечить операти
 вное рассмотрение результатов такого мо
 ниторинга и принятие в возможно коротки
 й срок решений о внесении необходимых из
 менений в нормативные правовые акты.Док
 лад – до 31 марта 2016 г.\, далее – ежекварта
 льно. Ответственные: Медведев Д.А.\, Никит
 ин А.С.\;
END:VEVENT
END:VCALENDAR
