BEGIN:VCALENDAR
VERSION:2.0
PRODID:-//kremlin.ru/Kremlin Calendar//RU
METHOD:PUBLISH
URL:http://kremlin.ru/acts/assignments/items/50899/ical-27.ics
BEGIN:VEVENT
SUMMARY:Пр-2508\, п.1\, 18)а
DTSTART;VALUE=DATE:20160415
DTEND;VALUE=DATE:20160416
UID:assignment-2685_27@kremlin.ru
DESCRIPTION:разработать программу поэтапного
  доступа социально ориентированных неко
 ммерческих организаций\, осуществляющих
  деятельность в социальной сфере\, к бюдж
 етным средствам\, выделяемым на предоста
 вление социальных услуг населению\, исхо
 дя из целесообразности доведения им до 10
  процентов средств\, предусмотренных на 
 реализацию соответствующих программ су
 бъектов Российской Федерации и муниципа
 льных образований.Срок – 15 апреля 2016 г.О
 тветственные: Медведев Д.А.\, высшие долж
 ностные лица (руководители высших испол
 нительных органов государственной влас
 ти) субъектов Российской Федерации\;
END:VEVENT
END:VCALENDAR
