BEGIN:VCALENDAR
VERSION:2.0
PRODID:-//kremlin.ru/Kremlin Calendar//RU
METHOD:PUBLISH
URL:http://kremlin.ru/acts/assignments/items/50899/ical-24.ics
BEGIN:VEVENT
SUMMARY:Пр-2508\, п.1\, 18)
DTSTART;VALUE=DATE:20160701
DTEND;VALUE=DATE:20160702
UID:assignment-2684_24@kremlin.ru
DESCRIPTION:18) совместно с органами государст
 венной власти субъектов Российской Феде
 рации:с учётом ранее данных поручений об
 еспечить обновление санитарного автотр
 анспорта с высокой степенью износа\, пре
 дусмотрев при необходимости предоставл
 ение субсидий из федерального бюджета.С
 рок – 1 июля 2016 г.\;
END:VEVENT
END:VCALENDAR
