BEGIN:VCALENDAR
VERSION:2.0
PRODID:-//kremlin.ru/Kremlin Calendar//RU
METHOD:PUBLISH
URL:http://kremlin.ru/acts/assignments/items/49552/ical-2.ics
BEGIN:VEVENT
SUMMARY:Пр.1067\, п.1в
DTSTART;VALUE=DATE:20151220
DTEND;VALUE=DATE:20151221
UID:assignment-2374_2@kremlin.ru
DESCRIPTION:в) обеспечить внесение изменений 
 в законодательство Российской Федераци
 и\, предусматривающих:определение деяте
 льности по ведению электронной очереди 
 в организации дошкольного образования\, 
 включая приём и учёт заявлений от гражда
 н\, как государственной (муниципальной) у
 слуги\;установление правового статуса с
 истемы электронной очереди в организаци
 и дошкольного образования и обязательны
 х единых для исполнения функционально-т
 ехнических требований к электронной оче
 реди в организации дошкольного образова
 ния\;создание прозрачного и доступного м
 еханизма информирования граждан об изме
 нении места в электронной очереди в орга
 низации дошкольного образования и основ
 аниях такого изменения.
END:VEVENT
END:VCALENDAR
