BEGIN:VCALENDAR
VERSION:2.0
PRODID:-//kremlin.ru/Kremlin Calendar//RU
METHOD:PUBLISH
URL:http://kremlin.ru/acts/assignments/items/21112/ical-4.ics
BEGIN:VEVENT
SUMMARY:Пр-1148\, п.4
DTSTART;VALUE=DATE:20140615
DTEND;VALUE=DATE:20140616
UID:assignment-1736_4@kremlin.ru
DESCRIPTION:Федеральным органам государствен
 ной власти\, осуществляющим функции и по
 лномочия учредителей федеральных госуд
 арственных образовательных организаций
  высшего образования\, устанавливать зна
 чения минимального количества баллов ед
 иного государственного экзамена по обще
 образовательным предметам\, соответству
 ющим специальности или направлению подг
 отовки\, по которым проводится приём в об
 разовательную организацию высшего обра
 зования на обучение\, в том числе целевой
  приём\, дифференцированные в зависимост
 и от специальности и направления подгот
 овки высшего образования\, от места расп
 оложения этих организаций\, а также от их
  правового статуса или категории.
END:VEVENT
END:VCALENDAR
