BEGIN:VCALENDAR
VERSION:2.0
PRODID:-//kremlin.ru/Kremlin Calendar//RU
METHOD:PUBLISH
URL:http://kremlin.ru/acts/assignments/items/20119/ical-4.ics
BEGIN:VEVENT
SUMMARY:Пр-141\, п.2в
DTSTART;VALUE=DATE:20140601
DTEND;VALUE=DATE:20140602
UID:assignment-1607_4@kremlin.ru
DESCRIPTION:Министерству обороны Российской 
 Федерации разработать и утвердить прогр
 аммы развития военных образовательных о
 рганизаций высшего образования до 2020 го
 да\, предусмотрев в них создание совреме
 нной инфраструктуры и учебно-материальн
 ой базы\, в том числе оснащение новыми об
 разцами вооружения и военной техники и т
 ренажерами к ним.
END:VEVENT
END:VCALENDAR
