BEGIN:VCALENDAR
VERSION:2.0
PRODID:-//kremlin.ru/Kremlin Calendar//RU
METHOD:PUBLISH
URL:http://kremlin.ru/acts/assignments/items/20119/ical-2.ics
BEGIN:VEVENT
SUMMARY:Пр-141\, п.2а
DTSTART;VALUE=DATE:20140331
DTEND;VALUE=DATE:20140401
UID:assignment-1605_2@kremlin.ru
DESCRIPTION:Министерству обороны Российской 
 Федерации представить в установленном п
 орядке предложения по совершенствовани
 ю системы военного образования в Россий
 ской Федерации на период до 2020 года.
END:VEVENT
END:VCALENDAR
