BEGIN:VCALENDAR
VERSION:2.0
PRODID:-//kremlin.ru/Kremlin Calendar//RU
METHOD:PUBLISH
URL:http://kremlin.ru/acts/assignments/items/20119/ical-1.ics
BEGIN:VEVENT
SUMMARY:Пр-141\, п.1б
DTSTART;VALUE=DATE:20140301
DTEND;VALUE=DATE:20140302
UID:assignment-1604_1@kremlin.ru
DESCRIPTION:Правительству Российской Федерац
 ии рассмотреть вопрос о возможности раз
 работки и реализации военными и граждан
 скими образовательными организациями в
 ысшего образования совместных образова
 тельных программ для подготовки военных
  кадров по наукоёмким направлениям и спе
 циальностям с последующей выдачей докум
 ентов об образовании и о квалификации и 
 представить предложения в установленно
 м порядке.
END:VEVENT
END:VCALENDAR
