BEGIN:VCALENDAR
VERSION:2.0
PRODID:-//kremlin.ru/Kremlin Calendar//RU
METHOD:PUBLISH
URL:http://kremlin.ru/acts/assignments/items/19287/ical-0.ics
BEGIN:VEVENT
SUMMARY:Пр-2230\, п.2а
DTSTART;VALUE=DATE:20131201
DTEND;VALUE=DATE:20131202
UID:assignment-1368_0@kremlin.ru
DESCRIPTION:Правительству Российской Федерац
 ии представить предложения по внесению 
 в Федеральный закон от 27 мая 1998 г. № 76-ФЗ 
 «О статусе военнослужащих» изменений\, к
 асающихся предоставления гражданам\, пр
 ошедшим военную службу в Вооружённых Си
 лах Российской Федерации по призыву\, до
 полнительных льгот при приёме в образов
 ательные организации высшего образован
 ия.
END:VEVENT
END:VCALENDAR
